BEGIN:VCALENDAR
VERSION:2.0
PRODID:-//Squarespace Inc/Squarespace 6//v6//EN
BEGIN:VEVENT
UID:5c92ea6941920263332db9a2@squarespace.com
DTSTAMP:20190321T013717Z
DTSTART:20190406T060000Z
DTEND:20190406T080000Z
SUMMARY:Make it Local a Shared Table Dinner
END:VEVENT
END:VCALENDAR
