BEGIN:VCALENDAR
VERSION:2.0
PRODID:-//Squarespace Inc/Squarespace 6//v6//EN
BEGIN:VEVENT
UID:5c9d8b0124a694cc474a4b22@squarespace.com
DTSTAMP:20190329T030638Z
DTSTART:20190405T070000Z
DTEND:20190405T100000Z
SUMMARY:Bar + Bohemian Rhapsody!!
END:VEVENT
END:VCALENDAR
