BEGIN:VCALENDAR
VERSION:2.0
PRODID:-//Squarespace Inc/Squarespace 6//v6//EN
BEGIN:VEVENT
UID:5c9c014d6e9a7f1ee17e5563@squarespace.com
DTSTAMP:20190327T230816Z
DTSTART:20190403T230000Z
DTEND:20190404T040000Z
SUMMARY:Dabble Day with Michelle Ford
END:VEVENT
END:VCALENDAR
