BEGIN:VCALENDAR
VERSION:2.0
PRODID:-//Squarespace Inc/Squarespace 6//v6//EN
BEGIN:VEVENT
UID:5c9c0567652dea3039ec2b07@squarespace.com
DTSTAMP:20190329T030919Z
DTSTART:20190403T080000Z
DTEND:20190403T100000Z
SUMMARY:Movie: Bohemian Rhapsody
END:VEVENT
END:VCALENDAR
