BEGIN:VCALENDAR
VERSION:2.0
PRODID:-//Squarespace Inc/Squarespace 6//v6//EN
BEGIN:VEVENT
UID:5c9c059e1905f4cca7a5d691@squarespace.com
DTSTAMP:20190327T232235Z
DTSTART:20190407T070000Z
DTEND:20190407T090000Z
SUMMARY:Movie: Bohemian Rhapsody
END:VEVENT
END:VCALENDAR
