BEGIN:VCALENDAR
VERSION:2.0
PRODID:-//Squarespace Inc/Squarespace 6//v6//EN
BEGIN:VEVENT
UID:5c9d8bc9a4222fffa6656b6f@squarespace.com
DTSTAMP:20190329T030747Z
DTSTART:20190419T080000Z
DTEND:20190419T110000Z
SUMMARY:Bar + A Star is Born!!!
END:VEVENT
END:VCALENDAR
