BEGIN:VCALENDAR
VERSION:2.0
PRODID:-//Squarespace Inc/Squarespace 6//v6//EN
BEGIN:VEVENT
UID:5c9d8c7cec212d6454e78a4e@squarespace.com
DTSTAMP:20190329T031753Z
DTSTART:20190416T003000Z
DTEND:20190416T023000Z
SUMMARY:School holiday movie: How to Train Your Dragon: The Hidden World
END:VEVENT
END:VCALENDAR
