BEGIN:VCALENDAR
VERSION:2.0
PRODID:-//Squarespace Inc/Squarespace 6//v6//EN
BEGIN:VEVENT
UID:5c92e5c1085229c3cb4ada22@squarespace.com
DTSTAMP:20190321T012148Z
DTSTART:20190413T093000Z
DTEND:20190413T120000Z
SUMMARY:Piano Wizard
END:VEVENT
END:VCALENDAR
