BEGIN:VCALENDAR
VERSION:2.0
PRODID:-//Squarespace Inc/Squarespace 6//v6//EN
BEGIN:VEVENT
UID:5c6b46ca15fcc00f43da29ef@squarespace.com
DTSTAMP:20190219T000307Z
DTSTART:20190306T230000Z
DTEND:20190307T040000Z
SUMMARY:Dabble Day Fair Isle Knitting with Lyn Angus
END:VEVENT
END:VCALENDAR
