BEGIN:VCALENDAR
VERSION:2.0
PRODID:-//Squarespace Inc/Squarespace 6//v6//EN
BEGIN:VEVENT
UID:5c08602e03ce64fc67e81355@squarespace.com
DTSTAMP:20181205T233608Z
DTSTART:20190305T233000Z
DTEND:20190306T013000Z
SUMMARY:Movie: Boy\, Erased
END:VEVENT
END:VCALENDAR
