BEGIN:VCALENDAR
VERSION:2.0
PRODID:-//Squarespace Inc/Squarespace 6//v6//EN
BEGIN:VEVENT
UID:5c086103758d464d9189e38d@squarespace.com
DTSTAMP:20181205T234005Z
DTSTART:20190306T080000Z
DTEND:20190306T100000Z
SUMMARY:Movie: Boy\, Erased
END:VEVENT
END:VCALENDAR
