BEGIN:VCALENDAR
VERSION:2.0
PRODID:-//Squarespace Inc/Squarespace 6//v6//EN
BEGIN:VEVENT
UID:5c0861e170a6ad0e8eec2166@squarespace.com
DTSTAMP:20181205T234041Z
DTSTART:20190310T060000Z
DTEND:20190310T080000Z
SUMMARY:Movie: Boy\, Erased
END:VEVENT
END:VCALENDAR
