BEGIN:VCALENDAR
VERSION:2.0
PRODID:-//Squarespace Inc/Squarespace 6//v6//EN
BEGIN:VEVENT
UID:5c9c06ee24a694c00c4795e1@squarespace.com
DTSTAMP:20190327T232807Z
DTSTART:20190417T090000Z
DTEND:20190417T110000Z
SUMMARY:Movie: A Star is Born
END:VEVENT
END:VCALENDAR
