BEGIN:VCALENDAR
VERSION:2.0
PRODID:-//Squarespace Inc/Squarespace 6//v6//EN
BEGIN:VEVENT
UID:5c9c071ff4e1fc9cfaea30e3@squarespace.com
DTSTAMP:20190327T232852Z
DTSTART:20190421T070000Z
DTEND:20190421T090000Z
SUMMARY:Movie: A Star is Born
END:VEVENT
END:VCALENDAR
