BEGIN:VCALENDAR
VERSION:2.0
PRODID:-//Squarespace Inc/Squarespace 6//v6//EN
BEGIN:VEVENT
UID:5c6ca8b8e79c7059a512540b@squarespace.com
DTSTAMP:20190220T230259Z
DTSTART:20190322T080000Z
DTEND:20190322T100000Z
SUMMARY:Voice\, Drama &amp\; Mystery
END:VEVENT
END:VCALENDAR
