BEGIN:VCALENDAR
VERSION:2.0
PRODID:-//Squarespace Inc/Squarespace 6//v6//EN
BEGIN:VEVENT
UID:5c6caa0ec830257051aedca2@squarespace.com
DTSTAMP:20190220T230415Z
DTSTART:20190323T080000Z
DTEND:20190323T100000Z
SUMMARY:Voice\, Drama &amp\; Mystery
END:VEVENT
END:VCALENDAR
