BEGIN:VCALENDAR
VERSION:2.0
PRODID:-//Squarespace Inc/Squarespace 6//v6//EN
BEGIN:VEVENT
UID:5c6caa7424a694b3d613d8e6@squarespace.com
DTSTAMP:20190220T230556Z
DTSTART:20190329T080000Z
DTEND:20190329T100000Z
SUMMARY:Voice\, Drama &amp\; Mystery
END:VEVENT
END:VCALENDAR
