BEGIN:VCALENDAR
VERSION:2.0
PRODID:-//Squarespace Inc/Squarespace 6//v6//EN
BEGIN:VEVENT
UID:5c0863350ebbe8e75d7bbae6@squarespace.com
DTSTAMP:20181205T234617Z
DTSTART:20190324T060000Z
DTEND:20190324T080000Z
SUMMARY:Movie: BlackkKlansman
END:VEVENT
END:VCALENDAR
