BEGIN:VCALENDAR
VERSION:2.0
PRODID:-//Squarespace Inc/Squarespace 6//v6//EN
BEGIN:VEVENT
UID:5c6b47e924a6941ef56ef659@squarespace.com
DTSTAMP:20190219T000647Z
DTSTART:20190302T020000Z
DTEND:20190302T040000Z
SUMMARY:Felting Workshop
END:VEVENT
END:VCALENDAR
