BEGIN:VCALENDAR
VERSION:2.0
PRODID:-//Squarespace Inc/Squarespace 6//v6//EN
BEGIN:VEVENT
UID:5c1b0289cd83664b7d3d8edb@squarespace.com
DTSTAMP:20190109T225313Z
DTSTART:20190316T013000Z
DTEND:20190316T030000Z
SUMMARY:Return to the River Arts and Education
END:VEVENT
END:VCALENDAR
