BEGIN:VCALENDAR
VERSION:2.0
PRODID:-//Squarespace Inc/Squarespace 6//v6//EN
BEGIN:VEVENT
UID:5c1aff1d575d1f61ca49ef02@squarespace.com
DTSTAMP:20190205T233937Z
DTSTART:20190315T080000Z
DTEND:20190315T100000Z
SUMMARY:Return to the River
END:VEVENT
END:VCALENDAR
