BEGIN:VCALENDAR
VERSION:2.0
PRODID:-//Squarespace Inc/Squarespace 6//v6//EN
BEGIN:VEVENT
UID:5c1b016f898583f75b92a359@squarespace.com
DTSTAMP:20190205T234117Z
DTSTART:20190316T040000Z
DTEND:20190316T060000Z
SUMMARY:Return to the River
END:VEVENT
END:VCALENDAR
