BEGIN:VCALENDAR
VERSION:2.0
PRODID:-//Squarespace Inc/Squarespace 6//v6//EN
BEGIN:VEVENT
UID:5c1b0216562fa7d15b169975@squarespace.com
DTSTAMP:20190205T234148Z
DTSTART:20190316T080000Z
DTEND:20190316T100000Z
SUMMARY:Return to the River
END:VEVENT
END:VCALENDAR
