BEGIN:VCALENDAR
VERSION:2.0
PRODID:-//Squarespace Inc/Squarespace 6//v6//EN
BEGIN:VEVENT
UID:5c11955a0e2e721e9bbf6719@squarespace.com
DTSTAMP:20181220T003709Z
DTSTART:20190318T223000Z
DTEND:20190319T040000Z
SUMMARY:The Seasons in Art with Karen Walsh 
END:VEVENT
END:VCALENDAR
