BEGIN:VCALENDAR
VERSION:2.0
PRODID:-//Squarespace Inc/Squarespace 6//v6//EN
BEGIN:VEVENT
UID:5c1195d04fa51a7be90828b3@squarespace.com
DTSTAMP:20181220T003751Z
DTSTART:20190325T223000Z
DTEND:20190326T040000Z
SUMMARY:The Seasons in Art with Karen Walsh 
END:VEVENT
END:VCALENDAR
