BEGIN:VCALENDAR
VERSION:2.0
PRODID:-//Squarespace Inc/Squarespace 6//v6//EN
BEGIN:VEVENT
UID:5c119587575d1f766a21bef6@squarespace.com
DTSTAMP:20181220T003840Z
DTSTART:20190401T223000Z
DTEND:20190402T040000Z
SUMMARY:The Seasons in Art with Karen Walsh 
END:VEVENT
END:VCALENDAR
