BEGIN:VCALENDAR
VERSION:2.0
PRODID:-//Squarespace Inc/Squarespace 6//v6//EN
BEGIN:VEVENT
UID:5c119612352f531e5de19afc@squarespace.com
DTSTAMP:20181220T003941Z
DTSTART:20190408T233000Z
DTEND:20190409T050000Z
SUMMARY:The Seasons in Art with Karen Walsh 
END:VEVENT
END:VCALENDAR
