BEGIN:VCALENDAR
VERSION:2.0
PRODID:-//Squarespace Inc/Squarespace 6//v6//EN
BEGIN:VEVENT
UID:5c085aff032be4ec60cce999@squarespace.com
DTSTAMP:20181205T231939Z
DTSTART:20190205T233000Z
DTEND:20190206T013000Z
SUMMARY:Movie: The Merger 
END:VEVENT
END:VCALENDAR
