BEGIN:VCALENDAR
VERSION:2.0
PRODID:-//Squarespace Inc/Squarespace 6//v6//EN
BEGIN:VEVENT
UID:5c085c434d7a9cef9fcd25df@squarespace.com
DTSTAMP:20181205T232014Z
DTSTART:20190206T080000Z
DTEND:20190206T100000Z
SUMMARY:Movie: The Merger 
END:VEVENT
END:VCALENDAR
