BEGIN:VCALENDAR
VERSION:2.0
PRODID:-//Squarespace Inc/Squarespace 6//v6//EN
BEGIN:VEVENT
UID:5c49077ebba223630db1c128@squarespace.com
DTSTAMP:20190124T003419Z
DTSTART:20190204T080000Z
DTEND:20190204T100000Z
SUMMARY:Auditions for 2 One Act Plays
END:VEVENT
END:VCALENDAR
