BEGIN:VCALENDAR
VERSION:2.0
PRODID:-//Squarespace Inc/Squarespace 6//v6//EN
BEGIN:VEVENT
UID:5c5b783de79c70a854fc7608@squarespace.com
DTSTAMP:20190207T010246Z
DTSTART:20190222T060000Z
DTEND:20190222T060000Z
SUMMARY:EOI's for position of Office Coordinator at TACC due by 5pm
END:VEVENT
END:VCALENDAR
