BEGIN:VCALENDAR
VERSION:2.0
PRODID:-//Squarespace Inc/Squarespace 6//v6//EN
BEGIN:VEVENT
UID:5c085fbe4fa51a75926f4606@squarespace.com
DTSTAMP:20181205T233740Z
DTSTART:20190220T080000Z
DTEND:20190220T100000Z
SUMMARY:Movie: Summer 1993
END:VEVENT
END:VCALENDAR
