BEGIN:VCALENDAR
VERSION:2.0
PRODID:-//Squarespace Inc/Squarespace 6//v6//EN
BEGIN:VEVENT
UID:5c085fc14ae237047b775a19@squarespace.com
DTSTAMP:20181205T233821Z
DTSTART:20190224T060000Z
DTEND:20190224T080000Z
SUMMARY: Movie: Summer 1993
END:VEVENT
END:VCALENDAR
