BEGIN:VCALENDAR
VERSION:2.0
PRODID:-//Squarespace Inc/Squarespace 6//v6//EN
BEGIN:VEVENT
UID:5c119920352f534fa553e463@squarespace.com
DTSTAMP:20181212T233242Z
DTSTART:20190108T223000Z
DTEND:20190109T023000Z
SUMMARY:Trash &amp\; Treasure Stall
END:VEVENT
END:VCALENDAR
