BEGIN:VCALENDAR
VERSION:2.0
PRODID:-//Squarespace Inc/Squarespace 6//v6//EN
BEGIN:VEVENT
UID:5c119aa94d7a9cfcd0a2bd98@squarespace.com
DTSTAMP:20181212T233325Z
DTSTART:20190109T223000Z
DTEND:20190110T023000Z
SUMMARY:Trash &amp\; Treasure Stall
END:VEVENT
END:VCALENDAR
