BEGIN:VCALENDAR
VERSION:2.0
PRODID:-//Squarespace Inc/Squarespace 6//v6//EN
BEGIN:VEVENT
UID:5c119ad303ce64956886ac17@squarespace.com
DTSTAMP:20181212T233353Z
DTSTART:20190110T223000Z
DTEND:20190111T023000Z
SUMMARY:Trash &amp\; Treasure Stall
END:VEVENT
END:VCALENDAR
