BEGIN:VCALENDAR
VERSION:2.0
PRODID:-//Squarespace Inc/Squarespace 6//v6//EN
BEGIN:VEVENT
UID:5c119af4032be4fd79fe7fcb@squarespace.com
DTSTAMP:20181212T233429Z
DTSTART:20190114T223000Z
DTEND:20190115T023000Z
SUMMARY:Trash &amp\; Treasure Stall
END:VEVENT
END:VCALENDAR
