BEGIN:VCALENDAR
VERSION:2.0
PRODID:-//Squarespace Inc/Squarespace 6//v6//EN
BEGIN:VEVENT
UID:5c119b2db8a0452160f1b673@squarespace.com
DTSTAMP:20181212T233528Z
DTSTART:20190116T223000Z
DTEND:20190117T023000Z
SUMMARY: Trash &amp\; Treasure Stall
END:VEVENT
END:VCALENDAR
