BEGIN:VCALENDAR
VERSION:2.0
PRODID:-//Squarespace Inc/Squarespace 6//v6//EN
BEGIN:VEVENT
UID:5c119b53f950b765ea80bf2b@squarespace.com
DTSTAMP:20181212T233603Z
DTSTART:20190117T223000Z
DTEND:20190118T023000Z
SUMMARY:Trash &amp\; Treasure Stall
END:VEVENT
END:VCALENDAR
