BEGIN:VCALENDAR
VERSION:2.0
PRODID:-//Squarespace Inc/Squarespace 6//v6//EN
BEGIN:VEVENT
UID:5c119b91352f534fa5540d45@squarespace.com
DTSTAMP:20181212T233716Z
DTSTART:20190121T223000Z
DTEND:20190122T023000Z
SUMMARY:Trash &amp\; Treasure Stall
END:VEVENT
END:VCALENDAR
