BEGIN:VCALENDAR
VERSION:2.0
PRODID:-//Squarespace Inc/Squarespace 6//v6//EN
BEGIN:VEVENT
UID:5c009b394d7a9c7e6d6ab506@squarespace.com
DTSTAMP:20181205T232932Z
DTSTART:20190101T233000Z
DTEND:20190102T013000Z
SUMMARY:Movie: Christopher Robin 
END:VEVENT
END:VCALENDAR
