BEGIN:VCALENDAR
VERSION:2.0
PRODID:-//Squarespace Inc/Squarespace 6//v6//EN
BEGIN:VEVENT
UID:5c009c3840ec9ad9cd1bcfa4@squarespace.com
DTSTAMP:20181205T232949Z
DTSTART:20190106T060000Z
DTEND:20190106T080000Z
SUMMARY:Movie: Christopher Robin 
END:VEVENT
END:VCALENDAR
