BEGIN:VCALENDAR
VERSION:2.0
PRODID:-//Squarespace Inc/Squarespace 6//v6//EN
BEGIN:VEVENT
UID:5c009bff0ebbe8946c614375@squarespace.com
DTSTAMP:20181205T232941Z
DTSTART:20190102T080000Z
DTEND:20190102T100000Z
SUMMARY:Movie: Christopher Robin 
END:VEVENT
END:VCALENDAR
