BEGIN:VCALENDAR
VERSION:2.0
PRODID:-//Squarespace Inc/Squarespace 6//v6//EN
BEGIN:VEVENT
UID:5c0859374fa51a34d169b307@squarespace.com
DTSTAMP:20181213T014959Z
DTSTART:20190115T233000Z
DTEND:20190116T013000Z
SUMMARY:Movie: Ladies in Black 
END:VEVENT
END:VCALENDAR
