BEGIN:VCALENDAR
VERSION:2.0
PRODID:-//Squarespace Inc/Squarespace 6//v6//EN
BEGIN:VEVENT
UID:5c085a7f0ebbe8a5a84e354b@squarespace.com
DTSTAMP:20181213T015053Z
DTSTART:20190116T080000Z
DTEND:20190116T100000Z
SUMMARY:Movie: Ladies in Black 
END:VEVENT
END:VCALENDAR
