BEGIN:VCALENDAR
VERSION:2.0
PRODID:-//Squarespace Inc/Squarespace 6//v6//EN
BEGIN:VEVENT
UID:5c085aaa352f5386d4b1bf49@squarespace.com
DTSTAMP:20181213T015141Z
DTSTART:20190120T060000Z
DTEND:20190120T080000Z
SUMMARY:Movie: Ladies in Black 
END:VEVENT
END:VCALENDAR
