BEGIN:VCALENDAR
VERSION:2.0
PRODID:-//Squarespace Inc/Squarespace 6//v6//EN
BEGIN:VEVENT
UID:5b875e92c2241beb311f6623@squarespace.com
DTSTAMP:20180830T032538Z
DTSTART:20180908T040000Z
DTEND:20180908T060000Z
SUMMARY:Coota Strings 
END:VEVENT
END:VCALENDAR
