BEGIN:VCALENDAR
VERSION:2.0
PRODID:-//Squarespace Inc/Squarespace 6//v6//EN
BEGIN:VEVENT
UID:5b2afcc988251ba7a044b908@squarespace.com
DTSTAMP:20180822T013633Z
DTSTART:20180907T080000Z
DTEND:20180907T100000Z
SUMMARY:Interactive Studio Sharing 
END:VEVENT
END:VCALENDAR
