BEGIN:VCALENDAR
VERSION:2.0
PRODID:-//Squarespace Inc/Squarespace 6//v6//EN
BEGIN:VEVENT
UID:5b87382daa4a99b038a63d50@squarespace.com
DTSTAMP:20180830T002521Z
DTSTART:20180906T000000Z
DTEND:20180906T050000Z
SUMMARY:Dabble Day - 3D on a 2D Surface
END:VEVENT
END:VCALENDAR
