BEGIN:VCALENDAR
VERSION:2.0
PRODID:-//Squarespace Inc/Squarespace 6//v6//EN
BEGIN:VEVENT
UID:5b4ff0e3f950b763cde18a64@squarespace.com
DTSTAMP:20180824T004950Z
DTSTART:20180926T003000Z
DTEND:20180926T023000Z
SUMMARY:Movie: Guernsey Literary & Potato Peel Pie Society 
END:VEVENT
END:VCALENDAR
